BEGIN:VCALENDAR
VERSION:2.0
PRODID:-//Ankida Ridge Vineyards - ECPv6.15.20//NONSGML v1.0//EN
CALSCALE:GREGORIAN
METHOD:PUBLISH
X-ORIGINAL-URL:https://ankidaridge.com
X-WR-CALDESC:Events for Ankida Ridge Vineyards
REFRESH-INTERVAL;VALUE=DURATION:PT1H
X-Robots-Tag:noindex
X-PUBLISHED-TTL:PT1H
BEGIN:VTIMEZONE
TZID:America/New_York
BEGIN:DAYLIGHT
TZOFFSETFROM:-0500
TZOFFSETTO:-0400
TZNAME:EDT
DTSTART:20240310T070000
END:DAYLIGHT
BEGIN:STANDARD
TZOFFSETFROM:-0400
TZOFFSETTO:-0500
TZNAME:EST
DTSTART:20241103T060000
END:STANDARD
BEGIN:DAYLIGHT
TZOFFSETFROM:-0500
TZOFFSETTO:-0400
TZNAME:EDT
DTSTART:20250309T070000
END:DAYLIGHT
BEGIN:STANDARD
TZOFFSETFROM:-0400
TZOFFSETTO:-0500
TZNAME:EST
DTSTART:20251102T060000
END:STANDARD
BEGIN:DAYLIGHT
TZOFFSETFROM:-0500
TZOFFSETTO:-0400
TZNAME:EDT
DTSTART:20260308T070000
END:DAYLIGHT
BEGIN:STANDARD
TZOFFSETFROM:-0400
TZOFFSETTO:-0500
TZNAME:EST
DTSTART:20261101T060000
END:STANDARD
BEGIN:DAYLIGHT
TZOFFSETFROM:-0500
TZOFFSETTO:-0400
TZNAME:EDT
DTSTART:20270314T070000
END:DAYLIGHT
BEGIN:STANDARD
TZOFFSETFROM:-0400
TZOFFSETTO:-0500
TZNAME:EST
DTSTART:20271107T060000
END:STANDARD
END:VTIMEZONE
BEGIN:VEVENT
DTSTART;TZID=America/New_York:20251018T120000
DTEND;TZID=America/New_York:20251018T170000
DTSTAMP:20260423T043305
CREATED:20250625T114353Z
LAST-MODIFIED:20250918T035923Z
UID:1236-1760788800-1760806800@ankidaridge.com
SUMMARY:Asado on the Overlook with Chef Nate Gagnon
DESCRIPTION:Tickets are now available! Reserve yours here. Tickets are required for this event. \nChef Nate Gagnon of Bonfire is back-—this time for a special Asado experience on the Overlook. Join us from 12-5pm on Saturday Oct 18 for this unique culinary experience\, paired with fabulous wines\, vibrant fall colors and views from the Overlook! \nThis Argentine-style “Asado” is a sight to behold: a whole-hog pig roast cooked over an open flame\, culminating in a meal enjoyed fireside with friends (and great wine!). Chef Nate Gagnon will start the fires for us the night before\, tending to the low and slow cooking of a hog raised right down Franklin Creek Rd\, at Oakshire Farm. \nFrom 1pm-4pm the meal will be served: \n–Asado de cerdo *Pig Roast* (sourced from Oakshire Farm)\n–Spring mix salads (sourced from Sweet Briar College Farm)\n–Grilled ciabatta with olive oil\n–Saffron rice \nOpen-fire cooking connects us with what’s on the plate in a new way. Along with hyperlocal sourcing of ingredients\, it’s a unique opportunity to celebrate the harvest and the abundance of Virginia. In Chef’s words\, we’re “bringing people together with real food\, and knowing where the food comes from.” \nWe’ll enjoy live music by Mirabelle Metcalfe and Jordan Perry\, a Charlottesville-based duo who blend country\, jazz and bluegrass sounds with foot-tapping favorites. \nAnd all the while\, the ladies of Ankida Ridge will keep your glasses full as you can enjoy the splendor of Virginia’s fall colors from the Overlook. \nQuestions? Email us at an**********@***il.com.
URL:https://ankidaridge.com/event/asado-on-the-overlook-with-chef-nate-gagnon/
LOCATION:Ankida Ridge Vineyards\, 1304 Franklin Creek Rd\, Amherst\, 24521\, United States
ATTACH;FMTTYPE=image/png:https://ankidaridge.com/wp-content/uploads/2025/06/Screenshot-2025-06-25-at-7.41.07 AM.png
END:VEVENT
BEGIN:VEVENT
DTSTART;TZID=America/New_York:20260227T170000
DTEND;TZID=America/New_York:20260228T213000
DTSTAMP:20260423T043305
CREATED:20260115T062916Z
LAST-MODIFIED:20260115T063023Z
UID:1403-1772211600-1772314200@ankidaridge.com
SUMMARY:Winter Wine Weekend at Hotel Madison
DESCRIPTION:Hotel Madison & Shenandoah Valley Conference Center\n\n\n\n\n\n\n\n\n\n\n\n710 South Main Street\, Harrisonburg\, VA\, United States\, Virginia 22801\n \n\n\n\n\n\n\nGet ready for a weekend of pure indulgence and discovery at Hotel Madison’s 6th Annual Winter Wine Weekend happening February 27-28\, 2026! This beloved signature event brings together friends\, family\, wine lovers\, and passionate winemakers for a celebration of flavor\, learning\, and connection. Picture yourself sipping from 16 world-class Virginia wineries during the Grand Tasting\, engaging in a laid-back Winemaker’s Panel\, and ending your evening with a four-course wine-paired dinner crafted by Chef Tassie Pippert! \n\n \nThroughout the day\, dive into experiential classes covering everything from the senses that shape your wine experience to cheese pairings and winemaking insights. There’s also live music\, a dessert reception bubbling with sweet wines\, and even a cozy Sunday brunch. A perfect getaway to elevate your winter – cheers to that!
URL:https://ankidaridge.com/event/winter-wine-weekend-at-hotel-madison/
LOCATION:Hotel Madison\, 710 South Main Street\, Harrisonburg\, VA\, 22801\, United States
ATTACH;FMTTYPE=image/png:https://ankidaridge.com/wp-content/uploads/2026/01/Screenshot-2026-01-15-at-1.29.45-AM.png
END:VEVENT
BEGIN:VEVENT
DTSTART;TZID=America/New_York:20260321T120000
DTEND;TZID=America/New_York:20260321T170000
DTSTAMP:20260423T043305
CREATED:20260115T063527Z
LAST-MODIFIED:20260115T063527Z
UID:1408-1774094400-1774112400@ankidaridge.com
SUMMARY:Toast to Virginia Wine!
DESCRIPTION:Location: Ankida Ridge Tasting Room \nIn honor of Governor’s Cup\, Virginia’s premier wine competition\, we’ll be opening up the Sparkling Brut and offering bubbly by the glass. And sourdough pizzas by Slice Versa. We hope to bring home another medal this year! \nReservations recommended.
URL:https://ankidaridge.com/event/toast-to-virginia-wine/
LOCATION:Ankida Ridge Vineyards\, 1304 Franklin Creek Rd\, Amherst\, 24521\, United States
ATTACH;FMTTYPE=image/png:https://ankidaridge.com/wp-content/uploads/2026/01/Screenshot-2026-01-13-at-11.42.23-PM.png
END:VEVENT
BEGIN:VEVENT
DTSTART;TZID=America/New_York:20260423T080000
DTEND;TZID=America/New_York:20260423T170000
DTSTAMP:20260423T043305
CREATED:20260423T050217Z
LAST-MODIFIED:20260423T050359Z
UID:1522-1776931200-1776963600@ankidaridge.com
SUMMARY:July 24: Summer Dinner Series: Ankida Wine Dinner at Lemaire in Richmond\, VA.
DESCRIPTION:Located inside the iconic Jefferson Hotel\, Lemaire is an elevated restaurant with an impressive yet intimate atmosphere. The menu features extraordinary Virginia grown ingredients and the Southern influences of Richmond’s food culture. We’re proud to partner with Chef Patrick Willis\, who will create a fabulous wine pairing dinner for our Ankida wines. Menu to be posted closer to event date. \nBe the first to know when seats become available! Email us at an**********@***il.com to be placed on the RSVP list\, and we’ll be in touch as soon as reservations open. 
URL:https://ankidaridge.com/event/summer-dinner-series-ankida-wine-dinner-at-lemaire-in-richmond-va/
ATTACH;FMTTYPE=image/png:https://ankidaridge.com/wp-content/uploads/2026/04/Screenshot-2026-04-23-at-1.01.24-AM.png
END:VEVENT
BEGIN:VEVENT
DTSTART;TZID=America/New_York:20260510T120000
DTEND;TZID=America/New_York:20260510T170000
DTSTAMP:20260423T043305
CREATED:20260115T064129Z
LAST-MODIFIED:20260423T044404Z
UID:1411-1778414400-1778432400@ankidaridge.com
SUMMARY:May 10: Scone and Wine Pairing for Mother’s Day
DESCRIPTION:Location: Ankida Ridge Tasting Room \nBack by popular demand! Join us in the tasting room on Mother’s Day — and enjoy a flight of three petite scones by Oakshire Farm\, crafted to pair with Ankida wines. We’ll have fingerstyle guitarist Ty Burkhardt with us to create a fabulous atmosphere. We’ll also be serving mimosas\, and bubbly by the glass.  \nThe pairing: \n\nApricot and Honey scone\, paired with Ankida Chardonnay\nSavory scone with Mushroom\, Thyme and Dried Cherry\, paired with Ankida Pinot Noir\nStrawberry Almond scone\, paired with Ankida Sparkling Brut\n\nPre-orders are required for this event. Pre-order your scone and wine pairing ticket here\, and click here to reserve mom’s favorite table.
URL:https://ankidaridge.com/event/scone-and-wine-pairing-for-mothers-day/
ATTACH;FMTTYPE=image/png:https://ankidaridge.com/wp-content/uploads/2026/01/Screenshot-2026-01-14-at-12.19.04-AM.png
END:VEVENT
BEGIN:VEVENT
DTSTART;TZID=America/New_York:20260524T120000
DTEND;TZID=America/New_York:20260524T170000
DTSTAMP:20260423T043305
CREATED:20260115T064315Z
LAST-MODIFIED:20260423T050526Z
UID:1414-1779624000-1779642000@ankidaridge.com
SUMMARY:May 24: Memorial Day Sunday BBQ with Live Music by Matty and Mirabelle Metcalfe
DESCRIPTION:Kick off the start of summer with us! We’ll enjoy late-spring weather on the mountain\, and BBQ by County Smoak. Matty and Mirabelle Metcalfe will provide a lively soundtrack as we uncork summer in good style! \nThe BBQ buffet meal ticket ($22) includes pulled pork BBQ\, mac n cheese\, baked beans\, coleslaw\, cornbread and Christine’s famous brownies! BBQ buffet will be available from 1-3pm. \nPre-orders are required for BBQ! Click here to purchase your meal ticket online. Reserve your meal ticket by Friday May 22nd at noon to guarantee. \nMirabelle and Matty play genre-defying\, decade-spanning music for all ages and any occasion. Their dynamic sound\, though not easy to categorize\, is fused by a shared love for infectious\, high energy sing-and-dance-alongs. With Mirabelle holding down rhythm guitar and lead vocal duties and Matty in on lead guitar\, harmony vocals and “suitcase drums“\, the duo delivers a full band sound at a fraction of the footprint. Give them a listen! \n 
URL:https://ankidaridge.com/event/memorial-day-sunday/
LOCATION:Ankida Ridge Vineyards\, 1304 Franklin Creek Rd\, Amherst\, 24521\, United States
ATTACH;FMTTYPE=image/png:https://ankidaridge.com/wp-content/uploads/2026/01/Screenshot-2026-04-23-at-12.23.50-AM.png
END:VEVENT
BEGIN:VEVENT
DTSTART;TZID=America/New_York:20260808T180000
DTEND;TZID=America/New_York:20260808T210000
DTSTAMP:20260423T043305
CREATED:20260423T051014Z
LAST-MODIFIED:20260423T051419Z
UID:1534-1786212000-1786222800@ankidaridge.com
SUMMARY:August 8: Ankida Ridge Pinot Noir Vertical Tasting
DESCRIPTION:Our Pinot Noir is the jewel of Ankida Ridge! Join us for a Five-Year Pinot Noir Vertical to taste the variations in each vintage. We only offer this tasting once per year! \nLimited Library wines will be available for purchase. \nLIMIT 28 GUESTS. Tickets will open first to Wine Club members. Members can email an**********@***il.com to be placed on the RSVP list for this event and be the first to know when seats become available.
URL:https://ankidaridge.com/event/august-8-ankida-ridge-pinot-noir-vertical-tasting/
LOCATION:Ankida Ridge Vineyards\, 1304 Franklin Creek Rd\, Amherst\, 24521\, United States
ATTACH;FMTTYPE=image/png:https://ankidaridge.com/wp-content/uploads/2026/04/Screenshot-2026-04-23-at-1.09.09-AM.png
END:VEVENT
END:VCALENDAR